BEGIN:VCALENDAR
VERSION:2.0
PRODID:-//SportPlan//Event Calendar//EN
CALSCALE:GREGORIAN
BEGIN:VEVENT
UID:6d131632-6564-4433-aa31-f936deb0a8c2@sportplan.local
DTSTAMP:20260426T010502Z
DTSTART;VALUE=DATE:20261003
DTEND;VALUE=DATE:20261004
SUMMARY:U. S. Steel Family Run – Minimaratón
DESCRIPTION:Official kosicemarathon.com event page\; family run / mini marathon October 2026 Košice
LOCATION:Košice\, Slovakia
URL:https://sportplan.vercel.app/da/events/u-s-steel-family-run-minimaraton-2026-10-03
END:VEVENT
END:VCALENDAR
