BEGIN:VCALENDAR
VERSION:2.0
PRODID:-//SportPlan//Event Calendar//EN
CALSCALE:GREGORIAN
BEGIN:VEVENT
UID:d01f67ba-85ad-4db1-a7e1-7724621cb24d@sportplan.local
DTSTAMP:20260425T230856Z
DTSTART;VALUE=DATE:20260425
DTEND;VALUE=DATE:20260426
SUMMARY:Tuusulanjärven Maraton
DESCRIPTION:Tuusulanjärven Maraton is the official Lake Tuusula marathon on 25 April 2026. The organizer site says the event has run since 1994 and features officially measured marathon and half-marathon routes around Tuusulanjärvi together with shorter public-entry distances.
LOCATION:Tuusula–Järvenpää\, Finland
URL:https://sportplan.vercel.app/da/events/tuusulanjarven-maraton-2026-04-25
END:VEVENT
END:VCALENDAR
