BEGIN:VCALENDAR
VERSION:2.0
PRODID:-//SportPlan//Event Calendar//EN
CALSCALE:GREGORIAN
BEGIN:VEVENT
UID:b50385ed-9096-419b-b5fd-c5de29aadf43@sportplan.local
DTSTAMP:20260425T231706Z
DTSTART;VALUE=DATE:20260308
DTEND;VALUE=DATE:20260309
SUMMARY:Turó de Morou
DESCRIPTION:The official La Maasaiada site presents Turó de Morou as one of the uphill/vertical race options within the Campins trail-running weekend\, alongside other Montseny ascent formats on the same event domain.
LOCATION:Campins
URL:https://sportplan.vercel.app/da/events/turo-de-morou-campins-2026-03-08-21k
END:VEVENT
END:VCALENDAR
