BEGIN:VCALENDAR
VERSION:2.0
PRODID:-//SportPlan//Event Calendar//EN
CALSCALE:GREGORIAN
BEGIN:VEVENT
UID:926d769b-1071-4564-b880-f0833cb0795d@sportplan.local
DTSTAMP:20260426T005520Z
DTSTART;VALUE=DATE:20260510
DTEND;VALUE=DATE:20260511
SUMMARY:Triatlon Ptuj 2026
DESCRIPTION:Official organizer page for 22. Ptujski triatlon on 10 May 2026 at Terme Ptuj. Tekaški klub MARATON Ptuj publishes the event bulletin\, confirms sprint and super-sprint triathlon racing\, and links direct public registration on Prijavim.se.
LOCATION:Ptuj\, Slovenia
URL:https://sportplan.vercel.app/da/events/triatlon-ptuj-2026-2026-05-10
END:VEVENT
END:VCALENDAR
