BEGIN:VCALENDAR
VERSION:2.0
PRODID:-//SportPlan//Event Calendar//EN
CALSCALE:GREGORIAN
BEGIN:VEVENT
UID:7fe1940e-7aca-41f6-9700-be2190b9bdb4@sportplan.local
DTSTAMP:20260426T005636Z
DTSTART;VALUE=DATE:20260719
DTEND;VALUE=DATE:20260720
SUMMARY:Triatlon pre všetkých 2026
DESCRIPTION:Official STÚ 2026 calendar lists Triatlon pre všetkých\, Stará Myjava\, 16. ročník\, on 19.07.2026 as a Slovak cup triathlon event.
LOCATION:Stará Myjava\, Slovakia
URL:https://sportplan.vercel.app/da/events/triatlon-pre-vsetkych-2026-2026-07-19
END:VEVENT
END:VCALENDAR
