BEGIN:VCALENDAR
VERSION:2.0
PRODID:-//SportPlan//Event Calendar//EN
CALSCALE:GREGORIAN
BEGIN:VEVENT
UID:23cf00ab-9a8c-4c84-8b02-220b73d81034@sportplan.local
DTSTAMP:20260426T005644Z
DTSTART;VALUE=DATE:20260621
DTEND;VALUE=DATE:20260622
SUMMARY:Triatlon Murska Sobota 2026
DESCRIPTION:Official Triathlon Federation of Slovenia 2026 calendar entry for Triatlon Murska Sobota\, listed as part of the federation triathlon cup.
LOCATION:Murska Sobota\, Slovenia
URL:https://sportplan.vercel.app/da/events/triatlon-murska-sobota-2026-2026-06-21
END:VEVENT
END:VCALENDAR
