BEGIN:VCALENDAR
VERSION:2.0
PRODID:-//SportPlan//Event Calendar//EN
CALSCALE:GREGORIAN
BEGIN:VEVENT
UID:d758747f-7858-47cc-a639-55ea4203b21b@sportplan.local
DTSTAMP:20260426T005452Z
DTSTART;VALUE=DATE:20260530
DTEND;VALUE=DATE:20260531
SUMMARY:Triatlon Koper 2026
DESCRIPTION:Official Triathlon Federation of Slovenia 2026 calendar entry for Triatlon Koper\, listed as the national championship in standard triathlon and part of the federation triathlon cup.
LOCATION:Koper\, Slovenia
URL:https://sportplan.vercel.app/da/events/triatlon-koper-2026-2026-05-30
END:VEVENT
END:VCALENDAR
