BEGIN:VCALENDAR
VERSION:2.0
PRODID:-//SportPlan//Event Calendar//EN
CALSCALE:GREGORIAN
BEGIN:VEVENT
UID:0334816f-5812-420e-a764-2a4f7b385e2b@sportplan.local
DTSTAMP:20260426T011808Z
DTSTART;VALUE=DATE:20260610
DTEND;VALUE=DATE:20260611
SUMMARY:Triatlo Jovem de Bragança
DESCRIPTION:Official FTP 2026 Norte calendar event page for a youth triathlon in Bragança. The federation page publishes the 10 June 2026 date and links to regulation and course materials.
LOCATION:Bragança\, Portugal
URL:https://sportplan.vercel.app/da/events/triatlo-jovem-de-braganca-braganca-2026-06-10
END:VEVENT
END:VCALENDAR
