BEGIN:VCALENDAR
VERSION:2.0
PRODID:-//SportPlan//Event Calendar//EN
CALSCALE:GREGORIAN
BEGIN:VEVENT
UID:631c0afa-a633-4b56-97b2-db92a93738d0@sportplan.local
DTSTAMP:20260425T233437Z
DTSTART;VALUE=DATE:20260509
DTEND;VALUE=DATE:20260510
SUMMARY:Triathlon Vert de Charleroi 2026
DESCRIPTION:Official LF3 page for Triathlon Vert de Charleroi on 9 May 2026 at the Centre aquatique de Marcinelle in Charleroi. The participant-facing page describes solo and relay racing in a natural setting and notes the expected Belgian Francophone championship hosting.
LOCATION:Centre aquatique de Marcinelle\, Loverval
URL:https://sportplan.vercel.app/da/events/triathlon-vert-de-charleroi-2026-loverval-2026-05-09
END:VEVENT
END:VCALENDAR
