BEGIN:VCALENDAR
VERSION:2.0
PRODID:-//SportPlan//Event Calendar//EN
CALSCALE:GREGORIAN
BEGIN:VEVENT
UID:4fad007b-face-4255-8f72-31b84cbe5c2f@sportplan.local
DTSTAMP:20260425T212024Z
DTSTART;VALUE=DATE:20260425
DTEND;VALUE=DATE:20260427
SUMMARY:Triathlon de Coëtquidan (56)
DESCRIPTION:Official FFTRI/T2Area fiche lists Triathlon de Coëtquidan (56) in Guer\, Bretagne as a two-day amateur triathlon weekend\, with Jeunes 1\, Jeunes 2\, XXS Jeunes and XS races on 25 April 2026\, followed by an S en CLM et en Équipe format on 26 April 2026.
LOCATION:Guer\, Bretagne\, France
URL:https://sportplan.vercel.app/da/events/triathlon-de-coetquidan-56-guer-2026-04-25
END:VEVENT
END:VCALENDAR
