BEGIN:VCALENDAR
VERSION:2.0
PRODID:-//SportPlan//Event Calendar//EN
CALSCALE:GREGORIAN
BEGIN:VEVENT
UID:61ce711f-3760-4fcf-a284-a41204018827@sportplan.local
DTSTAMP:20260425T233905Z
DTSTART;VALUE=DATE:20260524
DTEND;VALUE=DATE:20260525
SUMMARY:Trails Denes de Morella 45K
DESCRIPTION:Trails Denes de Morella 45K is the long-distance participant race currently represented on the official Denes de Morella 2026 family site\, which advertises three trail distances and places the event on diumenge 24 de maig 2026 in Morella. The official family page is the canonical organizer source and provides the event image used for this stronger route-specific record.
LOCATION:Morella\, Castelló\, Comunidad Valenciana
URL:https://sportplan.vercel.app/da/events/trails-denes-de-morella-45k-morella-2026-05-18-45k
END:VEVENT
END:VCALENDAR
