BEGIN:VCALENDAR
VERSION:2.0
PRODID:-//SportPlan//Event Calendar//EN
CALSCALE:GREGORIAN
BEGIN:VEVENT
UID:d080adbd-f92b-426a-a2cc-b373e5efd7ba@sportplan.local
DTSTAMP:20260425T233922Z
DTSTART;VALUE=DATE:20260524
DTEND;VALUE=DATE:20260525
SUMMARY:Trails Denes de Morella 25K
DESCRIPTION:Trails Denes de Morella 25K is the mid-distance race in the official Denes de Morella 2026 trail program in Morella\, Castelló. The organizer website lists the family with 14K\, 25K\, and 42K options and shows the event on diumenge 24 de maig 2026\, so the official family site is the correct canonical source for this 25 km edition.
LOCATION:Morella\, Castelló\, Comunidad Valenciana
URL:https://sportplan.vercel.app/da/events/trails-denes-de-morella-25k-morella-2026-05-18-25k
END:VEVENT
END:VCALENDAR
