BEGIN:VCALENDAR
VERSION:2.0
PRODID:-//SportPlan//Event Calendar//EN
CALSCALE:GREGORIAN
BEGIN:VEVENT
UID:dd2cee12-bfb4-421c-9214-bc65860cdf61@sportplan.local
DTSTAMP:20260425T232143Z
DTSTART;VALUE=DATE:20260725
DTEND;VALUE=DATE:20260726
SUMMARY:Trail Sierra de Gúdar-Javalambre
DESCRIPTION:Trail Sierra de Gúdar-Javalambre se celebrará el 25 de julio de 2026 en Valdelinares\, Teruel. Es una buena opción para quienes buscan un reto bien organizado y una jornada deportiva en un entorno especial. La distancia anunciada es de 35 km\, ideal para planificar ritmo\, entrenamiento y logística con antelación.
LOCATION:Valdelinares\, Teruel
URL:https://sportplan.vercel.app/da/events/trail-sierra-de-g-dar-javalambre-valdelinares-2026-07-25
END:VEVENT
END:VCALENDAR
