BEGIN:VCALENDAR
VERSION:2.0
PRODID:-//SportPlan//Event Calendar//EN
CALSCALE:GREGORIAN
BEGIN:VEVENT
UID:da52474d-8a12-49c0-9b54-7179fb2eea02@sportplan.local
DTSTAMP:20260425T195218Z
DTSTART;VALUE=DATE:20260222
DTEND;VALUE=DATE:20260223
SUMMARY:Trail Sastago
DESCRIPTION:Trail Sástago is the amateur trail-running event organised by Club Trail Sástago on 22 February 2026 in Sástago\, Zaragoza. The official event page lists 13K and 25K trail options plus a hiking route and children’s races\, all starting and finishing at Plaza Diputación de Sástago.
LOCATION:Sastago\, Zaragoza
URL:https://sportplan.vercel.app/da/events/trail-sastago-sastago-2026-02-22
END:VEVENT
END:VCALENDAR
