BEGIN:VCALENDAR
VERSION:2.0
PRODID:-//SportPlan//Event Calendar//EN
CALSCALE:GREGORIAN
BEGIN:VEVENT
UID:9a127a69-840d-4639-b433-29006c91e5c2@sportplan.local
DTSTAMP:20260425T232223Z
DTSTART;VALUE=DATE:20260905
DTEND;VALUE=DATE:20260906
SUMMARY:Trail No Hay Pitera Longás. Subida al Cielo de las Cinco Villas 15K
DESCRIPTION:Trail No Hay Pitera Longás. Subida al Cielo de las Cinco Villas 15K se celebrará el 5 de septiembre de 2026 en Longás\, Zaragoza\, Aragón. Es una buena cita para participantes y acompañantes que buscan un ambiente activo y bien organizado. La distancia anunciada es de 15 km.
LOCATION:Longás\, Zaragoza\, Aragón
URL:https://sportplan.vercel.app/da/events/trail-no-hay-pitera-longas-subida-al-cielo-de-las-cinco-villas-15k-longas-2026-0
END:VEVENT
END:VCALENDAR
