BEGIN:VCALENDAR
VERSION:2.0
PRODID:-//SportPlan//Event Calendar//EN
CALSCALE:GREGORIAN
BEGIN:VEVENT
UID:b90a40c0-de12-484c-94e6-90ae28a091ee@sportplan.local
DTSTAMP:20260425T195442Z
DTSTART;VALUE=DATE:20260222
DTEND;VALUE=DATE:20260223
SUMMARY:Trail Hoya de Huesca
DESCRIPTION:Trail Hoya de Huesca is presented by Peña Guara as the sixth edition of the Huesca city trail race\, held inside the Pirineos Mountain Film Festival program. The official page lists two amateur-enterable mountain-running routes: a 16K introductory course and a longer 26K route around Montearagón\, Tierz and the Río Flumen area with checkpoints\, GPX tracks and race regulations.
LOCATION:Huesca\, Unknown
URL:https://sportplan.vercel.app/da/events/trail-hoya-de-huesca-huesca-2026-02-22
END:VEVENT
END:VCALENDAR
