BEGIN:VCALENDAR
VERSION:2.0
PRODID:-//SportPlan//Event Calendar//EN
CALSCALE:GREGORIAN
BEGIN:VEVENT
UID:2bff8601-143e-4ca0-8348-5f1e668b0cd1@sportplan.local
DTSTAMP:20260425T231130Z
DTSTART;VALUE=DATE:20260425
DTEND;VALUE=DATE:20260427
SUMMARY:Trail des Dahus Sallanchards
DESCRIPTION:Trail des Dahus Sallanchards a lieu le 25 de avril de 2026 à Sallanches. C'est un rendez-vous intéressant pour les participants à la recherche d'un événement bien organisé dans un cadre agréable. Le parcours couvre environ 26 km. Consultez les informations officielles de l'organisateur pour les horaires\, le retrait des dossards et les détails logistiques.
LOCATION:Sallanches
URL:https://sportplan.vercel.app/da/events/trail-des-dahus-sallanchards-sallanches-2026-04-25
END:VEVENT
END:VCALENDAR
