BEGIN:VCALENDAR
VERSION:2.0
PRODID:-//SportPlan//Event Calendar//EN
CALSCALE:GREGORIAN
BEGIN:VEVENT
UID:eb8ff043-04cf-4b4a-8001-71961bf42a11@sportplan.local
DTSTAMP:20260425T232229Z
DTSTART;VALUE=DATE:20260425
DTEND;VALUE=DATE:20260427
SUMMARY:Trail des Cascades - Romagny
DESCRIPTION:Official Avenir de Mortain / FFA club page for Trail des Cascades in Romagny on 25 April 2026. The organizer page hosts the event information and media\, and links participants to the official Klikego registration page.
LOCATION:Romagny-Fontenay
URL:https://sportplan.vercel.app/da/events/trail-des-cascades-romagny-romagny-fontenay-2026-04-25
END:VEVENT
END:VCALENDAR
