BEGIN:VCALENDAR
VERSION:2.0
PRODID:-//SportPlan//Event Calendar//EN
CALSCALE:GREGORIAN
BEGIN:VEVENT
UID:950ac66c-ff0f-4f01-a127-3cdfabe51557@sportplan.local
DTSTAMP:20260425T200450Z
DTSTART;VALUE=DATE:20260215
DTEND;VALUE=DATE:20260310
SUMMARY:Trail de la Tour du Faucon
DESCRIPTION:Official CA Puget-Ville page says the 17th Trail de la Tour du Faucon takes place in Puget-Ville on 15 February 2026 with 25 km\, 15 km\, and 10 km trail formats plus a 10 km Nordic walking option and a canitrail on the 10 km course.
LOCATION:Puget-Ville
URL:https://sportplan.vercel.app/da/events/trail-de-la-tour-du-faucon-puget-ville-2026-02-15
END:VEVENT
END:VCALENDAR
