BEGIN:VCALENDAR
VERSION:2.0
PRODID:-//SportPlan//Event Calendar//EN
CALSCALE:GREGORIAN
BEGIN:VEVENT
UID:7eb9147e-830b-43b7-b192-db9d8a976c9b@sportplan.local
DTSTAMP:20260425T231624Z
DTSTART;VALUE=DATE:20260425
DTEND;VALUE=DATE:20260426
SUMMARY:Trail de la Chouette
DESCRIPTION:Trail de la Chouette a lieu le 25 de avril de 2026 à Dijon. C'est un rendez-vous intéressant pour les participants à la recherche d'un événement bien organisé dans un cadre agréable. Consultez les informations officielles de l'organisateur pour les horaires\, le retrait des dossards et les détails logistiques.
LOCATION:Dijon
URL:https://sportplan.vercel.app/da/events/trail-de-la-chouette-dijon-2026-04-25
END:VEVENT
END:VCALENDAR
