BEGIN:VCALENDAR
VERSION:2.0
PRODID:-//SportPlan//Event Calendar//EN
CALSCALE:GREGORIAN
BEGIN:VEVENT
UID:74b364fe-44ef-4dc3-986e-11212d601a79@sportplan.local
DTSTAMP:20260426T005947Z
DTSTART;VALUE=DATE:20260907
DTEND;VALUE=DATE:20260914
SUMMARY:Tor des Géants 2026
DESCRIPTION:Tor des Géants 2026 si svolge a Courmayeur\, Aosta Valley il 7 de settembre de 2026\, riunendo i partecipanti per una giornata di sport e ottima atmosfera. Il percorso copre circa 330 km. L'evento promette un'esperienza ben organizzata\, atleti motivati e un piacevole contesto locale.
LOCATION:Courmayeur\, Aosta Valley
URL:https://sportplan.vercel.app/da/events/tor-des-g-ants-2026-courmayeur-2026-09-07
END:VEVENT
END:VCALENDAR
