BEGIN:VCALENDAR
VERSION:2.0
PRODID:-//SportPlan//Event Calendar//EN
CALSCALE:GREGORIAN
BEGIN:VEVENT
UID:9cee087b-0623-4b60-86b8-34f454bed20b@sportplan.local
DTSTAMP:20260426T011024Z
DTSTART;VALUE=DATE:20261001
DTEND;VALUE=DATE:20261002
SUMMARY:The Gravelscape 2026
DESCRIPTION:The Gravelscape 2026 is the official self-supported gravel and MTB ultra adventure in Jaén from 1 to 4 October 2026. The official site lists solo and pairs participation with only 300 cyclists\, plus Ultra and Half-Ultra route options crossing mining districts\, natural parks\, abandoned railways and other remote Andalusian landscapes.
LOCATION:Jaén
URL:https://sportplan.vercel.app/da/events/the-gravelscape-2026
END:VEVENT
END:VCALENDAR
