BEGIN:VCALENDAR
VERSION:2.0
PRODID:-//SportPlan//Event Calendar//EN
CALSCALE:GREGORIAN
BEGIN:VEVENT
UID:2c0c9d5e-05c8-4d62-8a08-deb468be1593@sportplan.local
DTSTAMP:20260425T231710Z
DTSTART;VALUE=DATE:20260426
DTEND;VALUE=DATE:20260427
SUMMARY:The Drop - Winchester
DESCRIPTION:Official Organic Adventure / The Drop UK event page for The Drop - Winchester on 26 April 2026. The event starts from Cadence at The Handlebar Cafe on Garnier Road in Winchester and is presented as a stripped-back navigation challenge with 6\, 10\, and 15 mile drop options where participants are taken to an unknown location and must find their own way back without GPS or navigation aids.
LOCATION:Winchester
URL:https://sportplan.vercel.app/da/events/the-drop-winchester-winchester-2026-04-26
END:VEVENT
END:VCALENDAR
