BEGIN:VCALENDAR
VERSION:2.0
PRODID:-//SportPlan//Event Calendar//EN
CALSCALE:GREGORIAN
BEGIN:VEVENT
UID:b99c245e-0100-4463-b440-45413ccee1a5@sportplan.local
DTSTAMP:20260426T010147Z
DTSTART;VALUE=DATE:20260725
DTEND;VALUE=DATE:20260726
SUMMARY:T2F Superšprint triatlon Rovinka 2026
DESCRIPTION:Official STÚ 2026 calendar lists T2F Superšprint triatlon Rovinka on 25.07.2026 as a Slovak cup triathlon event.
LOCATION:Rovinka\, Slovakia
URL:https://sportplan.vercel.app/da/events/t2f-supersprint-triatlon-rovinka-2026-2026-07-25
END:VEVENT
END:VCALENDAR
