BEGIN:VCALENDAR
VERSION:2.0
PRODID:-//SportPlan//Event Calendar//EN
CALSCALE:GREGORIAN
BEGIN:VEVENT
UID:464cd3d5-1d01-4cab-89ce-5bee0f7b4acd@sportplan.local
DTSTAMP:20260426T010346Z
DTSTART;VALUE=DATE:20260808
DTEND;VALUE=DATE:20260809
SUMMARY:Staroturanský triatlon 2026
DESCRIPTION:Official Slovak Triathlon Union 2026 calendar page 2 lists Staroturanský triatlon\, 40. ročník\, on 8 August 2026 in Stará Turá as a Slovak Cup triathlon event.
LOCATION:Stará Turá\, Slovakia
URL:https://sportplan.vercel.app/da/events/staroturansky-triatlon-2026-stara-tura-2026-08-08
END:VEVENT
END:VCALENDAR
