BEGIN:VCALENDAR
VERSION:2.0
PRODID:-//SportPlan//Event Calendar//EN
CALSCALE:GREGORIAN
BEGIN:VEVENT
UID:53154ead-cfba-4cf9-b3f7-3b4cb296a06b@sportplan.local
DTSTAMP:20260426T025317Z
DTSTART;VALUE=DATE:20260712
DTEND;VALUE=DATE:20260713
SUMMARY:Sri Chinmoy Dolls Point Half-Marathon\, 10km & 5km
DESCRIPTION:The official Sri Chinmoy Sydney Series calendar lists race 3 on 12 July 2026 as the Dolls Point Half-Marathon\, 10 km\, and 5 km event. The organizer-owned Sydney Series page publishes participant-facing race information for this amateur-enterable Sydney running series.
LOCATION:Dolls Point\, Sydney\, Australia
URL:https://sportplan.vercel.app/da/events/sri-chinmoy-dolls-point-half-marathon-10km-5km-2026-07-12
END:VEVENT
END:VCALENDAR
