BEGIN:VCALENDAR
VERSION:2.0
PRODID:-//SportPlan//Event Calendar//EN
CALSCALE:GREGORIAN
BEGIN:VEVENT
UID:b10616b2-3929-424c-b420-ac651509dbb1@sportplan.local
DTSTAMP:20260425T195959Z
DTSTART;VALUE=DATE:20260301
DTEND;VALUE=DATE:20260302
SUMMARY:Southern Bypass ITT
DESCRIPTION:The official Kenya Cycling Race Series event page lists Southern Bypass ITT for 1 March 2026 in Thogoto\, Kenya as an amateur-enterable individual time trial.
LOCATION:Thogoto
URL:https://sportplan.vercel.app/da/events/southern-bypass-itt-thogoto-2026-03-01
END:VEVENT
END:VCALENDAR
