BEGIN:VCALENDAR
VERSION:2.0
PRODID:-//SportPlan//Event Calendar//EN
CALSCALE:GREGORIAN
BEGIN:VEVENT
UID:835a3c0a-8aa2-4618-96a1-56e49284a1ae@sportplan.local
DTSTAMP:20260425T213003Z
DTSTART;VALUE=DATE:20260131
DTEND;VALUE=DATE:20260201
SUMMARY:Snow Running Sierra Nevada
DESCRIPTION:Snow Running Sierra Nevada is the official Sierra Nevada night snow-running race in Pradollano\, Granada. The official event site says the race was born in 2012 and highlights a sunset start with running on snow in the Sierra Nevada resort environment.
LOCATION:Pradollano\, Granada
URL:https://sportplan.vercel.app/da/events/snow-running-sierra-nevada-pradollano-2026-01-31
END:VEVENT
END:VCALENDAR
