BEGIN:VCALENDAR
VERSION:2.0
PRODID:-//SportPlan//Event Calendar//EN
CALSCALE:GREGORIAN
BEGIN:VEVENT
UID:bfcb68bc-d88f-44c8-91dc-48f7350558dc@sportplan.local
DTSTAMP:20260425T212041Z
DTSTART;VALUE=DATE:20260701
DTEND;VALUE=DATE:20260702
SUMMARY:San Silvestre Trail Barx 11K
DESCRIPTION:San Silvestre Trail Barx 11K se celebrará el 2026-07-01 en BARX\, València\, Comunidad Valenciana. Es una buena opción para quienes buscan un reto bien organizado sobre una distancia de 11 km. Ideal tanto para participantes que quieren competir como para quienes prefieren disfrutar del ambiente del evento.
LOCATION:BARX\, València\, Comunidad Valenciana
URL:https://sportplan.vercel.app/da/events/san-silvestre-trail-barx-11k-barx-2026-07-01-11k
END:VEVENT
END:VCALENDAR
