BEGIN:VCALENDAR
VERSION:2.0
PRODID:-//SportPlan//Event Calendar//EN
CALSCALE:GREGORIAN
BEGIN:VEVENT
UID:0428aa3f-3734-416f-931c-8e912e56808c@sportplan.local
DTSTAMP:20260425T233755Z
DTSTART;VALUE=DATE:20260613
DTEND;VALUE=DATE:20260614
SUMMARY:Safari Race Series - Hell's Gate - 100km
DESCRIPTION:The official Kenya Cycling Race Series event page lists Safari Race Series - Hell's Gate - 100km on 13 June 2026 in Hell's Gate\, Kenya.
LOCATION:Hell's Gate National Park
URL:https://sportplan.vercel.app/da/events/safari-race-series-hell-s-gate-100km-naivasha-2026-06-13
END:VEVENT
END:VCALENDAR
