BEGIN:VCALENDAR
VERSION:2.0
PRODID:-//SportPlan//Event Calendar//EN
CALSCALE:GREGORIAN
BEGIN:VEVENT
UID:1fe7d877-7ed0-458c-a421-7c2d89c8bfa3@sportplan.local
DTSTAMP:20260425T213205Z
DTSTART;VALUE=DATE:20260425
DTEND;VALUE=DATE:20260426
SUMMARY:Ruta MTB Alpujarras
DESCRIPTION:Ruta MTB Alpujarras se celebra en Lanjarón el 25 de abril de 2026 como una marcha/carrera de bicicleta de montaña de 55 km en Las Alpujarras. Se corrigió la redacción automática para reflejar que se trata de un evento MTB/ciclismo y no de running.
LOCATION:Lanjarón
URL:https://sportplan.vercel.app/da/events/ruta-mtb-alpujarras-lanjar-n-2026-04-25
END:VEVENT
END:VCALENDAR
