BEGIN:VCALENDAR
VERSION:2.0
PRODID:-//SportPlan//Event Calendar//EN
CALSCALE:GREGORIAN
BEGIN:VEVENT
UID:9ba48f6d-4b8e-4831-aa90-c89f1ccf20ae@sportplan.local
DTSTAMP:20260426T030246Z
DTSTART;VALUE=DATE:20260509
DTEND;VALUE=DATE:20260510
SUMMARY:RUN SAVE MONKEYS MINI MARATHON 2026
DESCRIPTION:Official Thai.Run event page lists RUN SAVE MONKEYS MINI MARATHON 2026 in Samut Sakhon on 2026-05-09. Public registration is handled on the linked Thai.Run registration page.
LOCATION:Samut Sakhon
URL:https://sportplan.vercel.app/da/events/runsavemonkeys2026-2026-05-09
END:VEVENT
END:VCALENDAR
