BEGIN:VCALENDAR
VERSION:2.0
PRODID:-//SportPlan//Event Calendar//EN
CALSCALE:GREGORIAN
BEGIN:VEVENT
UID:85c2009c-0877-4d9a-888c-bddaa246dd04@sportplan.local
DTSTAMP:20260425T233153Z
DTSTART;VALUE=DATE:20261004
DTEND;VALUE=DATE:20261005
SUMMARY:Run Greece Πειραιάς 2026
DESCRIPTION:Official SEGAS and Run Greece pages list Run Greece Piraeus 2026 on 4 October 2026. The event is a mass-participation city running festival with 10 km\, 5 km and dynamic walking\, family run\, and kids race formats.
LOCATION:ΛΕΩΦ. ΓΡΗΓΟΡΙΟΥ ΛΑΜΠΡΑΚΗ (πλατεία Κανάρη)
URL:https://sportplan.vercel.app/da/events/run-greece-piraeus-2026-piraeus-2026-10-04
END:VEVENT
END:VCALENDAR
