BEGIN:VCALENDAR
VERSION:2.0
PRODID:-//SportPlan//Event Calendar//EN
CALSCALE:GREGORIAN
BEGIN:VEVENT
UID:3b578e89-10ea-413e-9f84-9d072969e25a@sportplan.local
DTSTAMP:20260425T232611Z
DTSTART;VALUE=DATE:20260920
DTEND;VALUE=DATE:20260921
SUMMARY:Run Greece Τρίκαλα 2026
DESCRIPTION:SEGAS / Run Greece city event page for Trikala 2026. Distances shown on official pages: 10 km\, 5 km & dynamic walking\, Family Run\, kids race.
LOCATION:ΛΕΩΦ. ΒΑΣΙΛΗ ΤΣΙΤΣΑΝΗ (Κεντρική πλατεία Ηρώων Πολυτεχνείου)
URL:https://sportplan.vercel.app/da/events/run-greece-2026--2026-09-20
END:VEVENT
END:VCALENDAR
