BEGIN:VCALENDAR
VERSION:2.0
PRODID:-//SportPlan//Event Calendar//EN
CALSCALE:GREGORIAN
BEGIN:VEVENT
UID:d21f23d4-d6ab-4da3-bdf5-9f5c4643d778@sportplan.local
DTSTAMP:20260426T030420Z
DTSTART;VALUE=DATE:20260605
DTEND;VALUE=DATE:20260606
SUMMARY:RUN FOR SIGHT 2026
DESCRIPTION:Official Thai.Run registration page for RUN FOR SIGHT 2026.
LOCATION:Chon Buri\, Chon Buri
URL:https://sportplan.vercel.app/da/events/run-for-sight-2026-chon-buri-2026-06-05
END:VEVENT
END:VCALENDAR
