BEGIN:VCALENDAR
VERSION:2.0
PRODID:-//SportPlan//Event Calendar//EN
CALSCALE:GREGORIAN
BEGIN:VEVENT
UID:6a4a7473-877e-4a40-b17a-29bce43b8fbc@sportplan.local
DTSTAMP:20260425T232225Z
DTSTART;VALUE=DATE:20260425
DTEND;VALUE=DATE:20260426
SUMMARY:Run and Bike de l'APEL Saint Michel (26)
DESCRIPTION:Official FFTRI calendar page lists Run and Bike de l'APEL Saint Michel in Pierrelatte on Saturday 25 April 2026. The event page says the run-and-bike takes place at Lac de Pignedoré and offers several youth-category races\, including 1000 m\, 2000 m\, 3500 m\, and 7500 m formats for different age groups. Official source family: FFTRI / T2Area calendar. Title\, city\, date\, participant-facing course summary\, registration presence\, and official logo image verified from the official event page. Geocoded conservatively to the 26700 Pierrelatte postal area.
LOCATION:Pierrelatte
URL:https://sportplan.vercel.app/da/events/run-and-bike-de-l-apel-saint-michel-26-pierrelatte-2026-04-25
END:VEVENT
END:VCALENDAR
