BEGIN:VCALENDAR
VERSION:2.0
PRODID:-//SportPlan//Event Calendar//EN
CALSCALE:GREGORIAN
BEGIN:VEVENT
UID:367cc011-d85a-4949-b8d0-51ad0b6dba2f@sportplan.local
DTSTAMP:20260425T231824Z
DTSTART;VALUE=DATE:20260718
DTEND;VALUE=DATE:20260719
SUMMARY:Rubielos de Mora Trail Run
DESCRIPTION:Rubielos de Mora Trail Run se celebra en Rubielos de Mora\, Teruel el 18 de julio de 2026\, reuniendo a corredores en un entorno atractivo y con muy buen ambiente. La prueba ofrece con un recorrido bien señalizado y ambiente de carrera\, por lo que es una excelente opción tanto para quienes buscan rendir como para quienes quieren disfrutar de la experiencia.
LOCATION:Rubielos de Mora\, Teruel
URL:https://sportplan.vercel.app/da/events/rubielos-de-mora-trail-run-rubielos-de-mora-2026-07-18
END:VEVENT
END:VCALENDAR
