BEGIN:VCALENDAR
VERSION:2.0
PRODID:-//SportPlan//Event Calendar//EN
CALSCALE:GREGORIAN
BEGIN:VEVENT
UID:b22c350b-9c9a-467d-a5e5-e1106fd25f90@sportplan.local
DTSTAMP:20260425T231520Z
DTSTART;VALUE=DATE:20260607
DTEND;VALUE=DATE:20260608
SUMMARY:Rio de Janeiro Marathon
DESCRIPTION:The official Maratona do Rio site publishes the 2026 Rio Marathon festival for 3-7 June 2026 and links direct amateur registration for the main running weekend in Rio de Janeiro.
LOCATION:Rio de Janeiro\, Brazil
URL:https://sportplan.vercel.app/da/events/rio-de-janeiro-marathon-2026-06-07
END:VEVENT
END:VCALENDAR
