BEGIN:VCALENDAR
VERSION:2.0
PRODID:-//SportPlan//Event Calendar//EN
CALSCALE:GREGORIAN
BEGIN:VEVENT
UID:d04913aa-d1e1-40d7-963f-cb5eb817daa6@sportplan.local
DTSTAMP:20260426T030506Z
DTSTART;VALUE=DATE:20260704
DTEND;VALUE=DATE:20260705
SUMMARY:Phanat Mini-Half Marathon 2026
DESCRIPTION:Official Thai.Run registration page for Phanat Mini-Half Marathon 2026 in Chon Buri.
LOCATION:Chon Buri\, Chon Buri
URL:https://sportplan.vercel.app/da/events/phanat-mini-half-marathon-2026-chon-buri-2026-07-04
END:VEVENT
END:VCALENDAR
