BEGIN:VCALENDAR
VERSION:2.0
PRODID:-//SportPlan//Event Calendar//EN
CALSCALE:GREGORIAN
BEGIN:VEVENT
UID:c7e67a21-3dd6-4d40-9ee7-95a404b01853@sportplan.local
DTSTAMP:20260425T230140Z
DTSTART;VALUE=DATE:20260425
DTEND;VALUE=DATE:20260426
SUMMARY:Petits Trail Téthiliens
DESCRIPTION:Petits Trail Téthiliens a lieu à Téthieu le 25 avril 2026. C’est un rendez-vous parfait pour profiter d’une belle journée de course\, avec un parcours de 17.5 km\, idéal autant pour viser un chrono que pour profiter de l’ambiance locale. Que vous visiez la performance ou une expérience plus conviviale\, l’événement promet une ambiance motivante du début à la fin.
LOCATION:Téthieu
URL:https://sportplan.vercel.app/da/events/petits-trail-tethiliens-tethieu-2026-04-25
END:VEVENT
END:VCALENDAR
