BEGIN:VCALENDAR
VERSION:2.0
PRODID:-//SportPlan//Event Calendar//EN
CALSCALE:GREGORIAN
BEGIN:VEVENT
UID:5c4beaaf-e98e-4cca-bb1e-e5c01e8fab80@sportplan.local
DTSTAMP:20260425T233813Z
DTSTART;VALUE=DATE:20260517
DTEND;VALUE=DATE:20260518
SUMMARY:PERKESO Run & Ride 2026
DESCRIPTION:PERKESO Run & Ride 2026 is presented on the official PERKESO event site for 17 May 2026 at Dataran Wawasan\, Putrajaya. The official site links participants directly to the live registration flow\, indicating a public mass-participation run-and-ride event.
LOCATION:Dataran Wawasan\, W.P. Putrajaya\, Malaysia
URL:https://sportplan.vercel.app/da/events/perkeso-run-and-ride-2026-putrajaya-2026-05-17
END:VEVENT
END:VCALENDAR
