BEGIN:VCALENDAR
VERSION:2.0
PRODID:-//SportPlan//Event Calendar//EN
CALSCALE:GREGORIAN
BEGIN:VEVENT
UID:ac50431c-7aad-4df7-b3b9-4f0b9880f31c@sportplan.local
DTSTAMP:20260425T212433Z
DTSTART;VALUE=DATE:20260927
DTEND;VALUE=DATE:20260928
SUMMARY:Perast Aquathlon 2026
DESCRIPTION:Perast Aquathlon 2026 is an official youth-league aquathlon in Perast\, Montenegro on 27 September 2026. The Montenegro Triathlon Federation's adopted 2026 season-planning article lists akvatlon Perast on that date as part of the Triathlon League for children calendar\, organized by TK Kotor.
LOCATION:Perast\, Montenegro
URL:https://sportplan.vercel.app/da/events/perast-aquathlon-2026-perast-2026-09-27
END:VEVENT
END:VCALENDAR
