BEGIN:VCALENDAR
VERSION:2.0
PRODID:-//SportPlan//Event Calendar//EN
CALSCALE:GREGORIAN
BEGIN:VEVENT
UID:1993beee-66fb-4dc5-8d3f-b13c57334e02@sportplan.local
DTSTAMP:20260425T232223Z
DTSTART;VALUE=DATE:20260510
DTEND;VALUE=DATE:20260511
SUMMARY:Ozona čempionāts - Stafete
DESCRIPTION:Official LOF info page lists Ozona čempionāts - Stafete on 10 May 2026 at Gediņi in Ķekavas novads as a relay orienteering event organized by Ozons OK.
LOCATION:Gediņi\, Ķekavas novads
URL:https://sportplan.vercel.app/da/events/ozona-cempionats-stafete-gedini-kekavas-novads-2026-05-10
END:VEVENT
END:VCALENDAR
