BEGIN:VCALENDAR
VERSION:2.0
PRODID:-//SportPlan//Event Calendar//EN
CALSCALE:GREGORIAN
BEGIN:VEVENT
UID:92fa9923-bd68-4ec0-9cbc-29219262dddc@sportplan.local
DTSTAMP:20260425T200037Z
DTSTART;VALUE=DATE:20260523
DTEND;VALUE=DATE:20260524
SUMMARY:Ottawa Kids Marathon
DESCRIPTION:Official Run Ottawa event page lists the Ottawa Kids Marathon for May 23\, 2026 at Ottawa City Hall as a 1.2K timed race for children ages 5 to 12 during Tamarack Ottawa Race Weekend.
LOCATION:Ottawa City Hall\, 110 Laurier Ave W\, Ottawa\, Ontario\, Canada
URL:https://sportplan.vercel.app/da/events/ottawa-kids-marathon-ottawa-2026-05-23
END:VEVENT
END:VCALENDAR
