BEGIN:VCALENDAR
VERSION:2.0
PRODID:-//SportPlan//Event Calendar//EN
CALSCALE:GREGORIAN
BEGIN:VEVENT
UID:112aa078-c72a-4f66-a904-a883d4ed1f7d@sportplan.local
DTSTAMP:20260425T195802Z
DTSTART;VALUE=DATE:20260523
DTEND;VALUE=DATE:20260524
SUMMARY:Ottawa 2K
DESCRIPTION:Ottawa 2K is the official family-friendly Run Ottawa race on 23 May 2026 at Ottawa City Hall during Tamarack Ottawa Race Weekend. The organiser describes an inclusive short road event for young runners\, families and walkers\, with strollers allowed\, a cheering Elgin Street out-and-back and a finish tied into the main festival atmosphere.
LOCATION:Ottawa City Hall\, Ottawa\, Ontario\, Canada
URL:https://sportplan.vercel.app/da/events/ottawa-2k-2026-05-23
END:VEVENT
END:VCALENDAR
