BEGIN:VCALENDAR
VERSION:2.0
PRODID:-//SportPlan//Event Calendar//EN
CALSCALE:GREGORIAN
BEGIN:VEVENT
UID:37348539-813d-4859-9620-f56c337dfefd@sportplan.local
DTSTAMP:20260425T232408Z
DTSTART;VALUE=DATE:20261010
DTEND;VALUE=DATE:20261011
SUMMARY:Olooloua Forest XC
DESCRIPTION:Official Kenya Cycling Race Series event page for Olooloua Forest XC on 2026-10-10 in Oloolua\, Kenya. Amateur-enterable mountain-bike event.
LOCATION:Oloolua
URL:https://sportplan.vercel.app/da/events/olooloua-forest-xc-oloolua-2026-10-10
END:VEVENT
END:VCALENDAR
