BEGIN:VCALENDAR
VERSION:2.0
PRODID:-//SportPlan//Event Calendar//EN
CALSCALE:GREGORIAN
BEGIN:VEVENT
UID:adaa76b9-f906-483c-b7c8-80ad7ed7868d@sportplan.local
DTSTAMP:20260425T200403Z
DTSTART;VALUE=DATE:20260301
DTEND;VALUE=DATE:20260302
SUMMARY:Oli Trail 2025 - 13km Adventurers
DESCRIPTION:Oli Trail 2025 - 13km Adventurers uses olitrail.com as the official participant-facing website for the Oli Trail program in Spain. The organizer domain is the canonical source for event details\, participant information\, and registration updates for the Adventurers distance.
LOCATION:Olesa de Montserrat\, Cataluña
URL:https://sportplan.vercel.app/da/events/oli-trail-2025-13km-adventurers-olesa-de-montserrat-2026-03-01-13k
END:VEVENT
END:VCALENDAR
