BEGIN:VCALENDAR
VERSION:2.0
PRODID:-//SportPlan//Event Calendar//EN
CALSCALE:GREGORIAN
BEGIN:VEVENT
UID:4c1dcb08-14ee-4b31-be33-482e5aaaa19c@sportplan.local
DTSTAMP:20260425T232611Z
DTSTART;VALUE=DATE:20260517
DTEND;VALUE=DATE:20260518
SUMMARY:Njoroge Memorial
DESCRIPTION:Official Kenya Cycling Race Series event page for Njoroge Memorial on 2026-05-17 in Engineer\, Kenya. Amateur-enterable road-cycling event.
LOCATION:Engineer
URL:https://sportplan.vercel.app/da/events/njoroge-memorial-engineer-2026-05-17
END:VEVENT
END:VCALENDAR
