BEGIN:VCALENDAR
VERSION:2.0
PRODID:-//SportPlan//Event Calendar//EN
CALSCALE:GREGORIAN
BEGIN:VEVENT
UID:3edfd0dd-fade-4769-b4e4-0fa18ccd5e63@sportplan.local
DTSTAMP:20260425T234142Z
DTSTART;VALUE=DATE:20261129
DTEND;VALUE=DATE:20261130
SUMMARY:Naro Moru Cycling Festival MTB Race
DESCRIPTION:Official Kenya Cycling Race Series event page for Naro Moru Cycling Festival MTB Race on 2026-11-29 in Naro Moru\, Kenya. Amateur-enterable mountain-bike event.
LOCATION:Naro Moru
URL:https://sportplan.vercel.app/da/events/naro-moru-cycling-festival-mtb-race-naro-moru-2026-11-29
END:VEVENT
END:VCALENDAR
