BEGIN:VCALENDAR
VERSION:2.0
PRODID:-//SportPlan//Event Calendar//EN
CALSCALE:GREGORIAN
BEGIN:VEVENT
UID:6b5206be-e2cb-4ee3-8308-62638284836d@sportplan.local
DTSTAMP:20260425T234055Z
DTSTART;VALUE=DATE:20261122
DTEND;VALUE=DATE:20261123
SUMMARY:Nakuru Challenge - KCRS Event + Western Kenya KCRS mini-series Event 3
DESCRIPTION:Official Kenya Cycling Race Series event page for Nakuru Challenge - KCRS Event + Western Kenya KCRS mini-series Event 3 on 2026-11-22 in Nakuru\, Kenya. Amateur-enterable road-cycling event.
LOCATION:Nakuru
URL:https://sportplan.vercel.app/da/events/nakuru-challenge-kcrs-event-western-kenya-kcrs-mini-series-event-3-nakuru-2026-11-22
END:VEVENT
END:VCALENDAR
